BEGIN:VCALENDAR
VERSION:2.0
PRODID:-//Sri Sathya Sai Institute of Higher Learning (SSSIHL) - ECPv6.4.0.1//NONSGML v1.0//EN
CALSCALE:GREGORIAN
METHOD:PUBLISH
X-WR-CALNAME:Sri Sathya Sai Institute of Higher Learning (SSSIHL)
X-ORIGINAL-URL:https://www.sssihl.edu.in
X-WR-CALDESC:Events for Sri Sathya Sai Institute of Higher Learning (SSSIHL)
REFRESH-INTERVAL;VALUE=DURATION:PT1H
X-Robots-Tag:noindex
X-PUBLISHED-TTL:PT1H
BEGIN:VTIMEZONE
TZID:Asia/Kolkata
BEGIN:STANDARD
TZOFFSETFROM:+0530
TZOFFSETTO:+0530
TZNAME:IST
DTSTART:20210101T000000
END:STANDARD
TZID:UTC
BEGIN:STANDARD
TZOFFSETFROM:+0000
TZOFFSETTO:+0000
TZNAME:UTC
DTSTART:20240101T000000
END:STANDARD
END:VTIMEZONE
BEGIN:VEVENT
DTSTART;TZID=Asia/Kolkata:20250314T080000
DTEND;TZID=Asia/Kolkata:20250315T170000
DTSTAMP:20260423T130751
CREATED:20250116T043725Z
LAST-MODIFIED:20250313T090308Z
UID:19826-1741939200-1742058000@www.sssihl.edu.in
SUMMARY:Lit-Treat: Edition V - Mar 14 &15\, 2025
DESCRIPTION:The Department of Languages and Literature – English\, at SSSIHL is hosting the fifth edition of its flagship event\, Lit-Treat\, a two-day National Conference on “Language\, Literature\, and Beyond: Exploring New Frontiers in English Studies”\, on 14 & 15th March 2025 at Prasanthi Nilayam. \nAbout the Conference \nThe field of English Studies is evolving rapidly\, with traditional boundaries of language and literature being redefined by emerging theoretical frameworks\, interdisciplinary methodologies\, and digital innovations. These changes open up new possibilities for exploring the complexities of human experience and creativity. \nIn this dynamic academic landscape\, Lit-Treat: Edition V aims to provide a vibrant platform for postgraduate students and research scholars to: \n– Engage with the latest developments in the discipline \n– Share insights and research findings \n– Contribute to discussions shaping the future of English Studies \nPublication Opportunity: Organized in collaboration with Literary Voice\, an international peer-reviewed journal of English studies indexed in the Web of Science\, selected papers will be published in the journal. \nThe event will feature plenary talks by eminent academicians & writers. This includes: \n– Prof. Bharathi Harishankar\, Vice-Chancellor\, Avinashilingam Institute for Home Science and Higher Education for Women \n– Prof. Jibu Mathew George\, Professor of English Literature\, The English and Foreign Languages University\, Hyderabad \n– Dr. Poonam Nigam Sahay\, Head & Associate Professor\, Department of English\, Ranchi University \n– Dr. Bhagyashree S. Varma\, Associate Professor\, Department of English\, University of Mumbai \nIn addition\, there will be a panel discussion featuring SSSIHL research scholars from the department. \nKey Dates: \n– Abstract Submission Deadline: February 12\, 2025 \n– Notification of Acceptance: By February 15\, 2025 \n– Last Date for Registration: February 25\, 2025 \n– Submission of Full Paper: March 5\, 2025 \nSubmit your abstract here \nFor details and Call for Abstracts – View Brochure \nSchedule \nFor any queries\, please write to us at: events.engdept@sssihl.edu.in \nJoin us LIVE:\n \n14th Mar at 9.30 a.m.- 1:00 p.m.: https://www.youtube.com/live/tGcgvVUYr58\n15th Mar at 9.30 a.m – 10:00 a.m.: https://www.youtube.com/live/zeDxZo0eQC4\n15th Mar at 2.00 p.m – 5.00 p.m: https://www.youtube.com/live/_rJ6YRv0_Dc
URL:https://www.sssihl.edu.in/event/lit-treat-edition-v/
LOCATION:Prasanthi Nilayam Campus\, SSSIHL\, Vidyagiri\, Prasanthi Nilayam\, Andhra Pradesh\, 515134\, India
CATEGORIES:Academic,Research
ORGANIZER;CN="Sri Sathya Sai Institute of Higher Learning":MAILTO:communications@sssihl.edu.in
END:VEVENT
BEGIN:VEVENT
DTSTART;TZID=Asia/Kolkata:20250207T180000
DTEND;TZID=Asia/Kolkata:20250207T200000
DTSTAMP:20260423T130751
CREATED:20250115T051426Z
LAST-MODIFIED:20250115T051750Z
UID:19817-1738951200-1738958400@www.sssihl.edu.in
SUMMARY:FDP: Building a Future-Ready Academia - Developing Transformative Leaders - Feb 7-24\, 2025
DESCRIPTION:The Department of Management and Commerce\, in collaboration with the SSSIHL IQAC\, invites you to an online Faculty Development Program (FDP) titled “Building a Future-Ready Academia – Developing Transformative Leaders” from February 7–24\, 2025. \nThis transformative program is designed for educators\, academic leaders\, and researchers who aspire to shape the future of education in an ever-evolving landscape. \nFor more details: Click here \nRegistration Link: Register Here \nView the Flyer: Click Here
URL:https://www.sssihl.edu.in/event/dmc-fdp-feb-2025/
LOCATION:Online/Virtual
CATEGORIES:Academic,Research
ORGANIZER;CN="Sri Sathya Sai Institute of Higher Learning":MAILTO:communications@sssihl.edu.in
END:VEVENT
BEGIN:VEVENT
DTSTART;TZID=UTC:20241202T093000
DTEND;TZID=UTC:20241207T160000
DTSTAMP:20260423T130751
CREATED:20241023T044413Z
LAST-MODIFIED:20241209T072104Z
UID:19288-1733131800-1733587200@www.sssihl.edu.in
SUMMARY:National Winter School for Women in AI/ML and Computational Biology-2024
DESCRIPTION:Sri Sathya Sai Institute of Higher Learning (SSSIHL) will host the National Winter School for Women in AI/ML and Computational Biology 2024 (NWSW-2024). This in-person\, six-day event\, scheduled from 2nd to 7th December 2024\, is a comprehensive program designed to empower women in Artificial Intelligence (AI)\, Machine Learning (ML)\, and Computational Biology.
URL:https://www.sssihl.edu.in/event/cemb-nwsw-2024-event/
LOCATION:Prasanthi Nilayam Campus\, SSSIHL\, Vidyagiri\, Prasanthi Nilayam\, Andhra Pradesh\, 515134\, India
CATEGORIES:Academic,Integral Education,Research
ORGANIZER;CN="Sri Sathya Sai Institute of Higher Learning":MAILTO:communications@sssihl.edu.in
END:VEVENT
BEGIN:VEVENT
DTSTART;TZID=UTC:20241026T090000
DTEND;TZID=UTC:20241030T170000
DTSTAMP:20260423T130751
CREATED:20241013T235152Z
LAST-MODIFIED:20241014T030235Z
UID:19205-1729933200-1730307600@www.sssihl.edu.in
SUMMARY:Faculty Development Programme on “The Empirics of Causality”
DESCRIPTION:The Department of Humanities and Social Sciences\, (DHSS)\, Sri Sathya Sai Institute of Higher Learning\, Prasanthi Nilayam\, is organising a 5-day Faculty Development Programme (FDP) on “The Empirics of Causality” from 26th to 30th October 2024. \nMode: Online \nRegistration Deadline: 24 October 2024 \nIn numerous empirical research works in the health\, social and behavioural sciences\, the objective is to highlight causal relationships rather than correlations in order\, for instance\, to assess the causal effect of interventions or public policies. \nThree of the most popular methods in empirical research will be put forward during this workshop: Difference-in-Differences (DiD)\, Instrumental Variables (IV)\, and Regression Discontinuity Design (RDD). \nResource Persons: \n\nDr. Olivier Dagnelie\, Sri Sathya Sai Institute of Higher Learning\, Prasanthi Nilayam\nProf. Vincenzo Verardi\, Louvain School of Management\, UC Louvain\, Belgium\nDr. Anand Shrivastava\, Azim Premji University\, Bangalore\nProf. Jean – François Maystadt\, Economic School of Louvain\, UC Louvain\, Belgium\n\nRegister now \nFor details view the invite:
URL:https://www.sssihl.edu.in/event/dhss-fdp-empirics-of-causality/
LOCATION:Online/Virtual
CATEGORIES:Academic,Research
ORGANIZER;CN="Sri Sathya Sai Institute of Higher Learning":MAILTO:communications@sssihl.edu.in
END:VEVENT
BEGIN:VEVENT
DTSTART;TZID=Asia/Kolkata:20210326T083000
DTEND;TZID=Asia/Kolkata:20210327T170000
DTSTAMP:20260423T130751
CREATED:20210325T060122Z
LAST-MODIFIED:20210325T060122Z
UID:11297-1616747400-1616864400@www.sssihl.edu.in
SUMMARY:International Symposium on 'Sustainable Health'
DESCRIPTION:Join us Live for a virtual International Symposium on ‘Sustainable Health’ on 26-27 of March 2021. Listen to a series of expert talks by top academicians\, researchers\, and innovators on how globally the advancement of biological research has a huge potential to contribute to sustainable health for all. The event is organised by the Department of Biosciences\, SSSIHL.
URL:https://www.sssihl.edu.in/event/international-symposium-on-sustainable-health/
LOCATION:Andhra Pradesh
CATEGORIES:Academic,Research
ORGANIZER;CN="Sri Sathya Sai Institute of Higher Learning":MAILTO:communications@sssihl.edu.in
END:VEVENT
BEGIN:VEVENT
DTSTART;TZID=Asia/Kolkata:20210319T090000
DTEND;TZID=Asia/Kolkata:20210320T170000
DTSTAMP:20260423T130751
CREATED:20210318T051655Z
LAST-MODIFIED:20210318T051655Z
UID:11239-1616144400-1616259600@www.sssihl.edu.in
SUMMARY:Physics for Healthcare
DESCRIPTION:With the Blessings of Bhagawan Sri Sathya Sai Baba\, the Department of Physics\, Sri Sathya Sai Institute of Higher Learning\, will be conducting a Two-Day International Webinar titled “Physics for Healthcare“\, on the 19th and 20th of March 2021. \nThe webinar features a series of talks by top academicians\, researchers\, entrepreneurs\, and innovators from across the globe\, on the application of Physics to the diagnostic and therapeutic aspects of Healthcare. The webinar will enthuse young science graduates and researchers to create innovative solutions for Healthcare. \n \n  \n \n  \n \n  \n \n 
URL:https://www.sssihl.edu.in/event/physics-for-healthcare/
LOCATION:Andhra Pradesh
CATEGORIES:Academic,Research
ORGANIZER;CN="Sri Sathya Sai Institute of Higher Learning":MAILTO:communications@sssihl.edu.in
END:VEVENT
BEGIN:VEVENT
DTSTART;TZID=Asia/Kolkata:20210102T084500
DTEND;TZID=Asia/Kolkata:20210103T170000
DTSTAMP:20260423T130751
CREATED:20201231T050412Z
LAST-MODIFIED:20201231T050412Z
UID:10779-1609577100-1609693200@www.sssihl.edu.in
SUMMARY:International Online Symposium on Recent Advances in Chemical Sciences (RACS-2021)
DESCRIPTION:A two-day international symposium on “Recent Advances in Chemical Sciences” is being organized by the Department of Chemistry of Sri Sathya Sai Institute of Higher Learning from 2-3 January 2021. The speakers include eminent persons from academia as well as industry. The aim of the symposium is to expose our Research scholars\, Postgraduate and undergraduate students to the latest developments in Chemical Sciences.\nJoin us live at the link: https://www.youtube.com/c/SriSathyaSaiInstituteofHigherLearning/live
URL:https://www.sssihl.edu.in/event/international-online-symposium-on-recent-advances-in-chemical-sciences/
LOCATION:Sri Sathya Sai International Centre for Sports\, Prasanthi Nilayam\, Prasanthi Nilayam\, Puttaparthi\, Anantapur\, 515134\, India
CATEGORIES:Academic,Chemistry,Research
ORGANIZER;CN="Sri Sathya Sai Institute of Higher Learning":MAILTO:communications@sssihl.edu.in
END:VEVENT
END:VCALENDAR